BEGIN:VCALENDAR
VERSION:2.0
PRODID:Events Booking
BEGIN:VEVENT
UID:69ea27916e099
SUMMARY:wine2wine Vinitaly Business Forum 2025
DESCRIPTION:5- 6 ottobre 2025
 CHICAGO
DTSTART:20251004T220000Z
DTEND:20251005T220000Z
DTSTAMP:20250916T102325Z
ORGANIZER;CN=Federvini:MAILTO:noreply@federvini.it
END:VEVENT
END:VCALENDAR