BEGIN:VCALENDAR
VERSION:2.0
PRODID:Events Booking
BEGIN:VEVENT
UID:69e89dac30546
SUMMARY:Vinitaly 2018
DESCRIPTION:La 52a edizione di Vinitaly è in programma dal 15 al 18 aprile
  2018
LOCATION:Viale del Lavoro\, Verona\, VR
DTSTART:20180414T220000Z
DTEND:20180417T220000Z
DTSTAMP:20260422T100636Z
ORGANIZER;CN=Federvini:MAILTO:noreply@federvini.it
END:VEVENT
END:VCALENDAR