BEGIN:VCALENDAR
VERSION:2.0
PRODID:Events Booking
BEGIN:VEVENT
UID:69ea2791dbd23
SUMMARY:Vinexpo Asia
DESCRIPTION:Dal 28 al 30 maggio 2024 si terrà presso il Centro Convenzioni
  ed Esposizioni di Hong Kong (Hkcec) Vinexpo Asia\, la principale fiera in
 ternazionale del vino e degli alcolici in Asia.
DTSTART:20240527T220000Z
DTEND:20240529T220000Z
DTSTAMP:20260423T140713Z
ORGANIZER;CN=Federvini:MAILTO:noreply@federvini.it
END:VEVENT
END:VCALENDAR