BEGIN:VCALENDAR
VERSION:2.0
PRODID:Events Booking
BEGIN:VEVENT
UID:69ea279182703
SUMMARY:Torino Cocktail Festival
DESCRIPTION:A Torino dal 10 al 16 giugno si svolgerà la seconda edizione d
 el Torino Cocktail Festival\, il quale si svilupperà nei diversi cocktail
  bar della città e punterà i riflettori sulla mixology del territorio.
DTSTART:20240609T220000Z
DTEND:20240615T220000Z
DTSTAMP:20240604T063836Z
ORGANIZER;CN=Federvini:MAILTO:noreply@federvini.it
END:VEVENT
END:VCALENDAR