BEGIN:VCALENDAR
VERSION:2.0
PRODID:Events Booking
BEGIN:VEVENT
UID:69ea27921b298
SUMMARY:Sorsi d’Autore
DESCRIPTION:Sorsi d'Autore® celebra i suoi primi 25 anni\, una manifestazi
 one ideata e promossa da Fondazione Aida in collaborazione con Regione Ven
 eto\, Istituto Regionale Ville Venete e Associazione Ville Venete. L'event
 o unisce arte\, letteratura\, musica\, turismo e giornalismo alla cultura 
 enogastronomica\, creando un format di successo molto amato dal pubblico. 
 La kermesse si distingue per la sua atmosfera raffinata e conviviale\, con
  degustazioni guidate di vini pregiati e le eccellenze gastronomiche del t
 erritorio\, coinvolgendo i più rinomati consorzi e produttori locali.
DTSTART:20240608T220000Z
DTEND:20240706T220000Z
DTSTAMP:20240520T070321Z
ORGANIZER;CN=Federvini:MAILTO:noreply@federvini.it
END:VEVENT
END:VCALENDAR