BEGIN:VCALENDAR
VERSION:2.0
PRODID:Events Booking
BEGIN:VEVENT
UID:69ea279191df3
SUMMARY:L'Italia del Pinot Nero
DESCRIPTION:Domenica 27 e lunedì 28 ottobre ha luogo a Roma\, al Belstay H
 otel\, la prima edizione de \"L'Italia del Pinot Nero\"\, evento organizza
 to da \"Vinodabere\" che nei mesi scorsi ha pubblicato la Guida ai Miglior
 i Pinot Nero d'Italia 2024.
DTSTART:20241026T220000Z
DTEND:20241027T230000Z
DTSTAMP:20241030T140731Z
ORGANIZER;CN=Federvini:MAILTO:noreply@federvini.it
END:VEVENT
END:VCALENDAR