BEGIN:VCALENDAR
VERSION:2.0
PRODID:Events Booking
BEGIN:VEVENT
UID:69ea279184c2c
SUMMARY:Invecchiamento degli aceti\, a Modena il primo convegno internazion
 ale
DESCRIPTION:
DTSTART:20250307T230000Z
DTEND:20250307T230000Z
DTSTAMP:20250306T102421Z
ORGANIZER;CN=Federvini:MAILTO:noreply@federvini.it
END:VEVENT
END:VCALENDAR