BEGIN:VCALENDAR
VERSION:2.0
PRODID:Events Booking
BEGIN:VEVENT
UID:69e50ecf028fe
SUMMARY:Il salone del Vermouth
DESCRIPTION:Il Museo del Risorgimento di Torino si prepara ad ospitare la p
 rima edizione del \"Salone del Vermouth\"\, un evento unico e coinvolgente
  dedicato al celebre prodotto piemontese. Questo storico aperitivo\, legat
 o intimamente alla storia di Torino\, sarà il protagonista di due giornat
 e straordinarie\, sabato 24 e domenica 25 febbraio.
DTSTART:20240223T230000Z
DTEND:20240224T230000Z
DTSTAMP:20260419T172015Z
ORGANIZER;CN=Federvini:MAILTO:noreply@federvini.it
END:VEVENT
END:VCALENDAR