BEGIN:VCALENDAR
VERSION:2.0
PRODID:Events Booking
BEGIN:VEVENT
UID:69ea27917a538
SUMMARY:Il Salone del Vermouth a Torino
DESCRIPTION:Torino e Piemonte celebrano 240 anni di uno dei simboli più ic
 onici del territorio come capitali storiche e contemporanee del distillato
LOCATION:Piazza Carlo Alberto Torino
DTSTART:20260220T230000Z
DTEND:20260221T230000Z
DTSTAMP:20251217T131111Z
ORGANIZER;CN=Federvini:MAILTO:noreply@federvini.it
GEO:45.068579;7.68671
X-APPLE-STRUCTURED-LOCATION;VALUE=URI;X-ADDRESS=Piazza Carlo Alberto Torino
 ;X-APPLE-RADIUS=72;X-TITLE=Torino:45.068579;7.68671
END:VEVENT
END:VCALENDAR