BEGIN:VCALENDAR
VERSION:2.0
PRODID:Events Booking
BEGIN:VEVENT
UID:69ea27917dd83
SUMMARY:II Giornata Nazionale del Made in Italy
DESCRIPTION:Il 15 aprile 2025 si celebra la seconda edizione della Giornata
  Nazionale del Made in Italy\,
DTSTART:20250414T220000Z
DTEND:20250414T220000Z
DTSTAMP:20250414T140003Z
ORGANIZER;CN=Federvini:MAILTO:noreply@federvini.it
END:VEVENT
END:VCALENDAR