BEGIN:VCALENDAR
VERSION:2.0
PRODID:Events Booking
BEGIN:VEVENT
UID:69eb683ec27dd
SUMMARY:DiVento
DESCRIPTION:Quinta edizione del vino sostenibile e solidale&nbsp\;delle Don
 ne della Vite.
DTSTART:20221112T090000Z
DTEND:20221112T170000Z
DTSTAMP:20260424T125526Z
ORGANIZER;CN=Federvini:MAILTO:noreply@federvini.it
END:VEVENT
END:VCALENDAR