BEGIN:VCALENDAR
VERSION:2.0
PRODID:Events Booking
BEGIN:VEVENT
UID:69ea279206ff3
SUMMARY:Como Lake Cocktail Week 2024
DESCRIPTION:Como Lake Cocktail Week:&nbsp\;dal 1° al 9 luglio&nbsp\;la mix
 ology internazionale e di qualità si ritrova nuovamente sulle sponde del&
 nbsp\;Lago di Como all'insegna del tema&nbsp\;\"Fantastic classic!\"&nbsp\
 ;come invito alla riscoperta dei grandi classici della miscelazione.
 L
 ’evento celebra l'atmosfera magica di Como e del suo Lago coinvolgendo&n
 bsp\;i 35 migliori cocktail bar&nbsp\;del comprensorio e si amplia di anno
  in anno in un esclusivo&nbsp\;percorso multisensoriale&nbsp\;tra hotel 5 
 stelle\, storici street bar e ristoranti stellati.
DTSTART:20240630T220000Z
DTEND:20240708T220000Z
DTSTAMP:20240625T070452Z
ORGANIZER;CN=Federvini:MAILTO:noreply@federvini.it
END:VEVENT
END:VCALENDAR