BEGIN:VCALENDAR
VERSION:2.0
PRODID:Events Booking
BEGIN:VEVENT
UID:69ea27922fc4a
SUMMARY:CMB Wine Experience Milano – prima edizione
DESCRIPTION:&nbsp\;CMB Wine Experience Milano: i&nbsp\;migliori vini italia
 ni e del mondo premiati al&nbsp\;Concours Mondial de Bruxelles&nbsp\;per l
 a prima volta in degustazione a Milano
DTSTART:20241025T220000Z
DTEND:20241026T220000Z
DTSTAMP:20241009T122015Z
ORGANIZER;CN=Federvini:MAILTO:noreply@federvini.it
END:VEVENT
END:VCALENDAR