BEGIN:VCALENDAR
VERSION:2.0
PRODID:Events Booking
BEGIN:VEVENT
UID:69ea279189b55
SUMMARY:'Barolo en primeur'\, il 25 torna l'asta benefica internazionale
DESCRIPTION:Il 25 ottobre al Castello di Grinzane Cavour (Cuneo)\, va in sc
 ena la quarta edizione di 'Barolo en primeur'\, l'asta benefica internazio
 nale di lotti del pregiatissimo vino che nei primi tre anni ha raccolto 2 
 milioni e 377mila euro destinati a progetti solidali.
 &nbsp\;
 L'asta\,
  in presenza da Grinzane in collegamento live con Londra e New York e in d
 iretta online.
 
 
 
 
 &nbsp\;
 
 
 
 
DTSTART:20241024T220000Z
DTEND:20241024T220000Z
DTSTAMP:20241018T111802Z
ORGANIZER;CN=Federvini:MAILTO:noreply@federvini.it
END:VEVENT
END:VCALENDAR