BEGIN:VCALENDAR
VERSION:2.0
PRODID:Events Booking
BEGIN:VEVENT
UID:69ea279191bd7
SUMMARY:Agricoltura \"aumentata\"\, quando l'Agritech incontra l'IA
DESCRIPTION:
DTSTART:20250403T140000Z
DTEND:20250403T153000Z
DTSTAMP:20250212T142225Z
ORGANIZER;CN=Federvini:MAILTO:noreply@federvini.it
END:VEVENT
END:VCALENDAR