BEGIN:VCALENDAR
VERSION:2.0
PRODID:Events Booking
BEGIN:VEVENT
UID:69ea27924b7ad
SUMMARY:Acetaie Aperte
DESCRIPTION:Dal 26 settembre al 4 ottobre 2025.
 MODENA
DTSTART:20250925T220000Z
DTEND:20251003T220000Z
DTSTAMP:20250916T101432Z
ORGANIZER;CN=Federvini:MAILTO:noreply@federvini.it
END:VEVENT
END:VCALENDAR