BEGIN:VCALENDAR
VERSION:2.0
PRODID:Events Booking
BEGIN:VEVENT
UID:69ea27916fea5
SUMMARY:33a Edizione di BENVENUTO BRUNELLO
DESCRIPTION:Cinque giornate di degustazioni con 126 cantine e oltre 500 eti
 chette pronte all’assaggio. La 33^ edizione di Benvenuto Brunello\, l’
 evento fondatore delle anteprime italiane dedicato al principe dei rossi t
 oscani\, si dà appuntamento dal 14 al 18 novembre al Chiostro Sant’Agos
 tino di Montalcino nel consueto format autunnale ma con qualche novità.
LOCATION:Chiostro Sant’Agostino di Montalcino
DTSTART:20241113T230000Z
DTEND:20241017T220000Z
DTSTAMP:20241005T135820Z
ORGANIZER;CN=Federvini:MAILTO:noreply@federvini.it
GEO:43.05778;11.48925
X-APPLE-STRUCTURED-LOCATION;VALUE=URI;X-ADDRESS=Chiostro Sant’Agostino di
  Montalcino;X-APPLE-RADIUS=72;X-TITLE=Montalcino:43.05778;11.48925
END:VEVENT
END:VCALENDAR