BEGIN:VCALENDAR
VERSION:2.0
PRODID:Events Booking
BEGIN:VEVENT
UID:69ea2791cb007
SUMMARY:“Vigneti Aperti”
DESCRIPTION:
DTSTART:20250228T230000Z
DTEND:20251030T230000Z
DTSTAMP:20250212T142225Z
ORGANIZER;CN=Federvini:MAILTO:noreply@federvini.it
END:VEVENT
END:VCALENDAR